BEGIN:VCALENDAR
PRODID:-//AT Content Types//AT Event//EN
VERSION:2.0
METHOD:PUBLISH
BEGIN:VEVENT
DTSTAMP:20260420T093412Z
CREATED:20231016T144158Z
UID:ATEvent-73eb6e26255a47d5804d744492e5bbac
LAST-MODIFIED:20231016T150314Z
SUMMARY:Echange à Séville
DTSTART:20240515T220000Z
DTEND:20240524T220000Z
CLASS:PUBLIC
END:VEVENT
END:VCALENDAR
